BEGIN:VCALENDAR
VERSION:2.0
PRODID:-//Katahdin Shadows Campground - ECPv5.10.0//NONSGML v1.0//EN
CALSCALE:GREGORIAN
METHOD:PUBLISH
X-WR-CALNAME:Katahdin Shadows Campground
X-ORIGINAL-URL:https://katahdinshadows.com
X-WR-CALDESC:Events for Katahdin Shadows Campground
BEGIN:VTIMEZONE
TZID:America/New_York
BEGIN:DAYLIGHT
TZOFFSETFROM:-0500
TZOFFSETTO:-0400
TZNAME:EDT
DTSTART:20260308T070000
END:DAYLIGHT
BEGIN:STANDARD
TZOFFSETFROM:-0400
TZOFFSETTO:-0500
TZNAME:EST
DTSTART:20261101T060000
END:STANDARD
END:VTIMEZONE
BEGIN:VEVENT
DTSTART;VALUE=DATE:20260724
DTEND;VALUE=DATE:20260727
DTSTAMP:20260420T123531
CREATED:20251204T213003Z
LAST-MODIFIED:20251204T212641Z
UID:31-1784851200-1785110399@katahdinshadows.com
SUMMARY:Aloha Weekend
DESCRIPTION:July 24\nHayride – 6:00 pm \nJuly 25\nPool Party! Family Games at the Pool – 1:30 pm\nDo the limbo!  Men’s Sexy Leg contest\, Who makes the biggest Splash?! Water games! It’s a pool party!  Rubber Ducky Races!! (all proceeds go to The Shriners Hospitals for Children) Good Music and lots of prizes too! \nHayride -6 pm \nWear your grass skirts and tropical shirts and join the fun!
URL:https://katahdinshadows.com/event/aloha-weekend/
LOCATION:Katahdin Shadows Campground\, 118 Katahdin Shadows\, Medway\, ME\, 04460\, United States
ATTACH;FMTTYPE=image/jpeg:https://katahdinshadows.com/wp-content/uploads/2015/03/10530699_10152768556571055_1489784598288964619_n.jpg
END:VEVENT
END:VCALENDAR